Package: NetSAM Version: 1.49.0 Command: chmod a+r NetSAM -R && F:\biocbuild\bbs-3.22-bioc\R\bin\R.exe CMD build --keep-empty-dirs --no-resave-data NetSAM StartedAt: 2025-07-20 20:44:52 -0400 (Sun, 20 Jul 2025) EndedAt: 2025-07-20 20:46:03 -0400 (Sun, 20 Jul 2025) EllapsedTime: 70.4 seconds RetCode: 0 Status: OK PackageFile: NetSAM_1.49.0.tar.gz PackageFileSize: 1.034 MiB