Package: NetSAM Version: 1.49.0 Command: rm -rf NetSAM.buildbin-libdir && mkdir NetSAM.buildbin-libdir && F:\biocbuild\bbs-3.22-bioc\R\bin\R.exe CMD INSTALL --build --library=NetSAM.buildbin-libdir NetSAM_1.49.0.tar.gz StartedAt: 2025-07-21 09:36:01 -0400 (Mon, 21 Jul 2025) EndedAt: 2025-07-21 09:36:42 -0400 (Mon, 21 Jul 2025) EllapsedTime: 41.3 seconds RetCode: 0 Status: OK PackageFile: NetSAM_1.49.0.zip PackageFileSize: 1.211 MiB