Package: NetSAM Version: 1.49.0 Command: /Library/Frameworks/R.framework/Resources/bin/R CMD INSTALL NetSAM StartedAt: 2025-07-07 15:32:28 -0400 (Mon, 07 Jul 2025) EndedAt: 2025-07-07 15:33:00 -0400 (Mon, 07 Jul 2025) EllapsedTime: 31.6 seconds RetCode: 0 Status: OK