Package: NetSAM Version: 1.49.0 Command: /Library/Frameworks/R.framework/Resources/bin/R CMD check --install=check:NetSAM.install-out.txt --library=/Library/Frameworks/R.framework/Resources/library --no-vignettes --timings NetSAM_1.49.0.tar.gz StartedAt: 2025-07-07 22:17:59 -0400 (Mon, 07 Jul 2025) EndedAt: 2025-07-07 22:40:55 -0400 (Mon, 07 Jul 2025) EllapsedTime: 1375.7 seconds RetCode: 0 Status: OK CheckDir: NetSAM.Rcheck Warnings: 0