Package: NetSAM Version: 1.49.0 Command: /Library/Frameworks/R.framework/Resources/bin/R CMD build --keep-empty-dirs --no-resave-data NetSAM StartedAt: 2025-07-07 17:49:41 -0400 (Mon, 07 Jul 2025) EndedAt: 2025-07-07 17:50:16 -0400 (Mon, 07 Jul 2025) EllapsedTime: 34.2 seconds RetCode: 0 Status: OK PackageFile: NetSAM_1.49.0.tar.gz PackageFileSize: 1.032 MiB