Package: NetPathMiner Version: 1.45.0 Command: /home/biocbuild/R/R/bin/R CMD check --install=check:NetPathMiner.install-out.txt --library=/home/biocbuild/R/R/site-library --no-vignettes --timings NetPathMiner_1.45.0.tar.gz StartedAt: 2025-07-11 10:35:28 -0000 (Fri, 11 Jul 2025) EndedAt: 2025-07-11 10:36:37 -0000 (Fri, 11 Jul 2025) EllapsedTime: 69.1 seconds RetCode: 0 Status: OK CheckDir: NetPathMiner.Rcheck Warnings: 0