Package: NetActivity Version: 1.11.0 Command: /home/biocbuild/R/R/bin/R CMD build --keep-empty-dirs --no-resave-data NetActivity StartedAt: 2025-10-03 01:49:38 -0000 (Fri, 03 Oct 2025) EndedAt: 2025-10-03 01:50:55 -0000 (Fri, 03 Oct 2025) EllapsedTime: 77.0 seconds RetCode: 0 Status: OK PackageFile: NetActivity_1.11.0.tar.gz PackageFileSize: 420.9 KiB