Package: NetActivity Version: 1.11.0 Command: chmod a+r NetActivity -R && F:\biocbuild\bbs-3.22-bioc\R\bin\R.exe CMD build --keep-empty-dirs --no-resave-data NetActivity StartedAt: 2025-07-11 20:44:22 -0400 (Fri, 11 Jul 2025) EndedAt: 2025-07-11 20:45:49 -0400 (Fri, 11 Jul 2025) EllapsedTime: 87.0 seconds RetCode: 0 Status: OK PackageFile: NetActivity_1.11.0.tar.gz PackageFileSize: 345.1 KiB