Package: NetActivity Version: 1.11.0 Command: rm -rf NetActivity.buildbin-libdir && mkdir NetActivity.buildbin-libdir && F:\biocbuild\bbs-3.22-bioc\R\bin\R.exe CMD INSTALL --build --library=NetActivity.buildbin-libdir NetActivity_1.11.0.tar.gz StartedAt: 2025-07-12 09:24:40 -0400 (Sat, 12 Jul 2025) EndedAt: 2025-07-12 09:25:14 -0400 (Sat, 12 Jul 2025) EllapsedTime: 34.1 seconds RetCode: 0 Status: OK PackageFile: NetActivity_1.11.0.zip PackageFileSize: 359.2 KiB