Package: NanoTube Version: 1.15.0 Command: /home/biocbuild/R/R/bin/R CMD INSTALL NanoTube StartedAt: 2025-07-14 20:25:19 -0000 (Mon, 14 Jul 2025) EndedAt: 2025-07-14 20:25:34 -0000 (Mon, 14 Jul 2025) EllapsedTime: 15.2 seconds RetCode: 0 Status: OK