Package: NanoTube Version: 1.15.0 Command: /home/biocbuild/R/R/bin/R CMD check --install=check:NanoTube.install-out.txt --library=/home/biocbuild/R/R/site-library --no-vignettes --timings NanoTube_1.15.0.tar.gz StartedAt: 2025-07-15 09:59:13 -0000 (Tue, 15 Jul 2025) EndedAt: 2025-07-15 10:01:28 -0000 (Tue, 15 Jul 2025) EllapsedTime: 134.2 seconds RetCode: 0 Status: OK CheckDir: NanoTube.Rcheck Warnings: 0