Package: NanoTube Version: 1.15.0 Command: F:\biocbuild\bbs-3.22-bioc\R\bin\R.exe CMD check --no-multiarch --install=check:NanoTube.install-out.txt --library=F:\biocbuild\bbs-3.22-bioc\R\library --no-vignettes --timings NanoTube_1.15.0.tar.gz StartedAt: 2025-07-02 04:28:25 -0400 (Wed, 02 Jul 2025) EndedAt: 2025-07-02 04:32:15 -0400 (Wed, 02 Jul 2025) EllapsedTime: 230.0 seconds RetCode: 0 Status: OK CheckDir: NanoTube.Rcheck Warnings: 0