Package: NanoMethViz Version: 3.5.6 Command: /home/biocbuild/R/R/bin/R CMD INSTALL NanoMethViz StartedAt: 2025-10-02 21:22:47 -0000 (Thu, 02 Oct 2025) EndedAt: 2025-10-02 21:24:28 -0000 (Thu, 02 Oct 2025) EllapsedTime: 101.5 seconds RetCode: 0 Status: OK