Package: NanoMethViz Version: 3.5.6 Command: /home/biocbuild/R/R/bin/R CMD check --install=check:NanoMethViz.install-out.txt --library=/home/biocbuild/R/R/site-library --no-vignettes --timings NanoMethViz_3.5.6.tar.gz StartedAt: 2025-10-03 09:35:10 -0000 (Fri, 03 Oct 2025) EndedAt: 2025-10-03 09:49:43 -0000 (Fri, 03 Oct 2025) EllapsedTime: 872.8 seconds RetCode: 0 Status: OK CheckDir: NanoMethViz.Rcheck Warnings: 0