Package: NanoMethViz Version: 3.5.6 Command: /home/biocbuild/R/R/bin/R CMD build --keep-empty-dirs --no-resave-data NanoMethViz StartedAt: 2025-10-03 01:47:31 -0000 (Fri, 03 Oct 2025) EndedAt: 2025-10-03 01:51:28 -0000 (Fri, 03 Oct 2025) EllapsedTime: 237.1 seconds RetCode: 0 Status: OK PackageFile: NanoMethViz_3.5.6.tar.gz PackageFileSize: 12.89 MiB