Package: NanoMethViz Version: 3.5.5 Command: F:\biocbuild\bbs-3.22-bioc\R\bin\R.exe CMD INSTALL NanoMethViz StartedAt: 2025-08-14 16:56:35 -0400 (Thu, 14 Aug 2025) EndedAt: 2025-08-14 17:00:19 -0400 (Thu, 14 Aug 2025) EllapsedTime: 224.6 seconds RetCode: 0 Status: OK