Package: NanoMethViz Version: 3.5.5 Command: F:\biocbuild\bbs-3.22-bioc\R\bin\R.exe CMD check --no-multiarch --install=check:NanoMethViz.install-out.txt --library=F:\biocbuild\bbs-3.22-bioc\R\library --no-vignettes --timings NanoMethViz_3.5.5.tar.gz StartedAt: 2025-08-15 05:46:28 -0400 (Fri, 15 Aug 2025) EndedAt: 2025-08-15 05:59:38 -0400 (Fri, 15 Aug 2025) EllapsedTime: 790.3 seconds RetCode: 0 Status: OK CheckDir: NanoMethViz.Rcheck Warnings: 0