Package: NanoMethViz Version: 3.5.5 Command: chmod a+r NanoMethViz -R && F:\biocbuild\bbs-3.22-bioc\R\bin\R.exe CMD build --keep-empty-dirs --no-resave-data NanoMethViz StartedAt: 2025-08-14 21:52:20 -0400 (Thu, 14 Aug 2025) EndedAt: 2025-08-14 21:57:15 -0400 (Thu, 14 Aug 2025) EllapsedTime: 295.0 seconds RetCode: 0 Status: OK PackageFile: NanoMethViz_3.5.5.tar.gz PackageFileSize: 12.86 MiB