Package: NanoMethViz Version: 3.5.6 Command: /home/biocbuild/bbs-3.22-bioc/R/bin/R CMD INSTALL NanoMethViz StartedAt: 2025-10-05 15:53:24 -0400 (Sun, 05 Oct 2025) EndedAt: 2025-10-05 15:54:37 -0400 (Sun, 05 Oct 2025) EllapsedTime: 72.7 seconds RetCode: 0 Status: OK