Package: NanoMethViz Version: 3.5.6 Command: /home/biocbuild/bbs-3.22-bioc/R/bin/R CMD check --install=check:NanoMethViz.install-out.txt --library=/home/biocbuild/bbs-3.22-bioc/R/site-library --timings NanoMethViz_3.5.6.tar.gz StartedAt: 2025-10-06 02:21:45 -0400 (Mon, 06 Oct 2025) EndedAt: 2025-10-06 02:33:52 -0400 (Mon, 06 Oct 2025) EllapsedTime: 726.9 seconds RetCode: 0 Status: OK CheckDir: NanoMethViz.Rcheck Warnings: 0