Package: NanoMethViz Version: 3.5.6 Command: /Library/Frameworks/R.framework/Resources/bin/R CMD INSTALL NanoMethViz StartedAt: 2025-10-05 15:47:30 -0400 (Sun, 05 Oct 2025) EndedAt: 2025-10-05 15:48:59 -0400 (Sun, 05 Oct 2025) EllapsedTime: 89.0 seconds RetCode: 0 Status: OK