Package: NanoMethViz Version: 3.5.6 Command: /Library/Frameworks/R.framework/Resources/bin/R CMD check --install=check:NanoMethViz.install-out.txt --library=/Library/Frameworks/R.framework/Resources/library --no-vignettes --timings NanoMethViz_3.5.6.tar.gz StartedAt: 2025-10-06 23:19:27 -0400 (Mon, 06 Oct 2025) EndedAt: 2025-10-06 23:32:20 -0400 (Mon, 06 Oct 2025) EllapsedTime: 772.2 seconds RetCode: 0 Status: OK CheckDir: NanoMethViz.Rcheck Warnings: 0