Package: NanoMethViz Version: 3.5.6 Command: rm -rf NanoMethViz.buildbin-libdir && mkdir NanoMethViz.buildbin-libdir && /Users/biocbuild/BBS/utils/build-universal.sh NanoMethViz_3.5.6.tar.gz /Library/Frameworks/R.framework/Resources/bin/R NanoMethViz.buildbin-libdir StartedAt: 2025-10-06 02:13:37 -0400 (Mon, 06 Oct 2025) EndedAt: 2025-10-06 02:15:14 -0400 (Mon, 06 Oct 2025) EllapsedTime: 97.2 seconds RetCode: 0 Status: OK PackageFile: NanoMethViz_3.5.6.tgz PackageFileSize: 14.83 MiB