Package: NanoMethViz Version: 3.5.6 Command: /Library/Frameworks/R.framework/Resources/bin/R CMD build --keep-empty-dirs --no-resave-data NanoMethViz StartedAt: 2025-10-05 17:13:47 -0400 (Sun, 05 Oct 2025) EndedAt: 2025-10-05 17:14:51 -0400 (Sun, 05 Oct 2025) EllapsedTime: 63.7 seconds RetCode: 0 Status: OK PackageFile: NanoMethViz_3.5.6.tar.gz PackageFileSize: 13.98 MiB