Package: NPARC Version: 1.21.0 Command: /home/biocbuild/R/R/bin/R CMD INSTALL NPARC StartedAt: 2025-07-14 20:20:34 -0000 (Mon, 14 Jul 2025) EndedAt: 2025-07-14 20:20:42 -0000 (Mon, 14 Jul 2025) EllapsedTime: 8.5 seconds RetCode: 0 Status: OK