Package: NPARC Version: 1.21.0 Command: /home/biocbuild/R/R/bin/R CMD check --install=check:NPARC.install-out.txt --library=/home/biocbuild/R/R/site-library --no-vignettes --timings NPARC_1.21.0.tar.gz StartedAt: 2025-07-15 10:06:15 -0000 (Tue, 15 Jul 2025) EndedAt: 2025-07-15 10:07:34 -0000 (Tue, 15 Jul 2025) EllapsedTime: 79.1 seconds RetCode: 0 Status: OK CheckDir: NPARC.Rcheck Warnings: 0