Package: NPARC Version: 1.21.0 Command: F:\biocbuild\bbs-3.22-bioc\R\bin\R.exe CMD INSTALL NPARC StartedAt: 2025-07-07 15:28:51 -0400 (Mon, 07 Jul 2025) EndedAt: 2025-07-07 15:29:05 -0400 (Mon, 07 Jul 2025) EllapsedTime: 14.1 seconds RetCode: 0 Status: OK