Package: NPARC Version: 1.21.0 Command: rm -rf NPARC.buildbin-libdir && mkdir NPARC.buildbin-libdir && F:\biocbuild\bbs-3.22-bioc\R\bin\R.exe CMD INSTALL --build --library=NPARC.buildbin-libdir NPARC_1.21.0.tar.gz StartedAt: 2025-07-08 09:29:05 -0400 (Tue, 08 Jul 2025) EndedAt: 2025-07-08 09:29:17 -0400 (Tue, 08 Jul 2025) EllapsedTime: 11.5 seconds RetCode: 0 Status: OK PackageFile: NPARC_1.21.0.zip PackageFileSize: 2.13 MiB