Package: NPARC Version: 1.21.0 Command: /home/biocbuild/bbs-3.22-bioc/R/bin/R CMD build --keep-empty-dirs --no-resave-data --md5 NPARC StartedAt: 2025-07-07 18:22:31 -0400 (Mon, 07 Jul 2025) EndedAt: 2025-07-07 18:26:02 -0400 (Mon, 07 Jul 2025) EllapsedTime: 210.3 seconds RetCode: 0 Status: OK PackageFile: NPARC_1.21.0.tar.gz PackageFileSize: 2.253 MiB