Package: NPARC Version: 1.21.0 Command: /Library/Frameworks/R.framework/Resources/bin/R CMD build --keep-empty-dirs --no-resave-data NPARC StartedAt: 2025-07-11 17:50:57 -0400 (Fri, 11 Jul 2025) EndedAt: 2025-07-11 17:54:55 -0400 (Fri, 11 Jul 2025) EllapsedTime: 237.6 seconds RetCode: 0 Status: OK PackageFile: NPARC_1.21.0.tar.gz PackageFileSize: 2.298 MiB