Package: NPARC Version: 1.21.0 Command: rm -rf NPARC.buildbin-libdir && mkdir NPARC.buildbin-libdir && /Users/biocbuild/BBS/utils/build-universal.sh NPARC_1.21.0.tar.gz /Library/Frameworks/R.framework/Resources/bin/R NPARC.buildbin-libdir StartedAt: 2025-07-12 01:09:15 -0400 (Sat, 12 Jul 2025) EndedAt: 2025-07-12 01:09:25 -0400 (Sat, 12 Jul 2025) EllapsedTime: 10.5 seconds RetCode: 0 Status: OK PackageFile: NPARC_1.21.0.tgz PackageFileSize: 2.494 MiB