Package: NPARC Version: 1.21.0 Command: /Library/Frameworks/R.framework/Resources/bin/R CMD build --keep-empty-dirs --no-resave-data NPARC StartedAt: 2025-07-11 17:05:41 -0400 (Fri, 11 Jul 2025) EndedAt: 2025-07-11 17:07:02 -0400 (Fri, 11 Jul 2025) EllapsedTime: 81.0 seconds RetCode: 0 Status: OK PackageFile: NPARC_1.21.0.tar.gz PackageFileSize: 2.299 MiB