Package: NCIgraph Version: 1.57.0 Command: /home/biocbuild/R/R/bin/R CMD INSTALL NCIgraph StartedAt: 2025-07-14 20:27:46 -0000 (Mon, 14 Jul 2025) EndedAt: 2025-07-14 20:28:00 -0000 (Mon, 14 Jul 2025) EllapsedTime: 13.3 seconds RetCode: 0 Status: OK