############################################################################## ############################################################################## ### ### Running command: ### ### rm -rf NADfinder.buildbin-libdir && mkdir NADfinder.buildbin-libdir && F:\biocbuild\bbs-3.22-bioc\R\bin\R.exe CMD INSTALL --build --library=NADfinder.buildbin-libdir NADfinder_1.33.0.tar.gz ### ############################################################################## ############################################################################## * installing *source* package 'NADfinder' ... ** this is package 'NADfinder' version '1.33.0' ** using staged installation ** R ** data *** moving datasets to lazyload DB ** inst ** byte-compile and prepare package for lazy loading No methods found in package 'GenomeInfoDb' for request: 'seqinfo' when loading 'TFBSTools' ** help *** installing help indices ** building package indices ** installing vignettes ** testing if installed package can be loaded from temporary location No methods found in package 'GenomeInfoDb' for request: 'seqinfo' when loading 'TFBSTools' ** testing if installed package can be loaded from final location No methods found in package 'GenomeInfoDb' for request: 'seqinfo' when loading 'TFBSTools' ** testing if installed package keeps a record of temporary installation path * MD5 sums packaged installation of 'NADfinder' as NADfinder_1.33.0.zip * DONE (NADfinder)