Package: MungeSumstats Version: 1.17.2 Command: F:\biocbuild\bbs-3.22-bioc\R\bin\R.exe CMD INSTALL MungeSumstats StartedAt: 2025-07-24 16:52:45 -0400 (Thu, 24 Jul 2025) EndedAt: 2025-07-24 16:54:37 -0400 (Thu, 24 Jul 2025) EllapsedTime: 112.7 seconds RetCode: 0 Status: OK