Package: MungeSumstats Version: 1.17.1 Command: /Library/Frameworks/R.framework/Resources/bin/R CMD check --install=check:MungeSumstats.install-out.txt --library=/Library/Frameworks/R.framework/Resources/library --no-vignettes --timings MungeSumstats_1.17.1.tar.gz StartedAt: 2025-07-02 22:06:12 -0400 (Wed, 02 Jul 2025) EndedAt: 2025-07-02 22:27:30 -0400 (Wed, 02 Jul 2025) EllapsedTime: 1277.9 seconds RetCode: 0 Status: WARNINGS CheckDir: MungeSumstats.Rcheck Warnings: 1