Package: MungeSumstats Version: 1.17.1 Command: /Library/Frameworks/R.framework/Resources/bin/R CMD build --keep-empty-dirs --no-resave-data MungeSumstats StartedAt: 2025-07-01 17:52:40 -0400 (Tue, 01 Jul 2025) EndedAt: 2025-07-01 17:54:17 -0400 (Tue, 01 Jul 2025) EllapsedTime: 96.1 seconds RetCode: 0 Status: OK PackageFile: MungeSumstats_1.17.1.tar.gz PackageFileSize: 2.372 MiB