Package: MungeSumstats Version: 1.17.2 Command: /Library/Frameworks/R.framework/Resources/bin/R CMD build --keep-empty-dirs --no-resave-data MungeSumstats StartedAt: 2025-07-16 17:02:34 -0400 (Wed, 16 Jul 2025) EndedAt: 2025-07-16 17:03:08 -0400 (Wed, 16 Jul 2025) EllapsedTime: 34.4 seconds RetCode: 0 Status: OK PackageFile: MungeSumstats_1.17.2.tar.gz PackageFileSize: 2.373 MiB