Package: MungeSumstats Version: 1.17.2 Command: rm -rf MungeSumstats.buildbin-libdir && mkdir MungeSumstats.buildbin-libdir && /Users/biocbuild/BBS/utils/build-universal.sh MungeSumstats_1.17.2.tar.gz /Library/Frameworks/R.framework/Resources/bin/R MungeSumstats.buildbin-libdir StartedAt: 2025-07-14 22:27:28 -0400 (Mon, 14 Jul 2025) EndedAt: 2025-07-14 22:27:48 -0400 (Mon, 14 Jul 2025) EllapsedTime: 19.4 seconds RetCode: 0 Status: OK PackageFile: MungeSumstats_1.17.2.tgz PackageFileSize: 2.758 MiB