Package: MultiRNAflow Version: 1.7.0 Command: /Library/Frameworks/R.framework/Resources/bin/R CMD INSTALL MultiRNAflow StartedAt: 2025-07-15 15:10:57 -0400 (Tue, 15 Jul 2025) EndedAt: 2025-07-15 15:11:18 -0400 (Tue, 15 Jul 2025) EllapsedTime: 21.7 seconds RetCode: 0 Status: OK