Package: MultiRNAflow Version: 1.7.0 Command: /Library/Frameworks/R.framework/Resources/bin/R CMD check --install=check:MultiRNAflow.install-out.txt --library=/Library/Frameworks/R.framework/Resources/library --no-vignettes --timings MultiRNAflow_1.7.0.tar.gz StartedAt: 2025-06-29 20:24:10 -0400 (Sun, 29 Jun 2025) EndedAt: 2025-06-29 20:27:57 -0400 (Sun, 29 Jun 2025) EllapsedTime: 227.2 seconds RetCode: 0 Status: OK CheckDir: MultiRNAflow.Rcheck Warnings: 0