Package: MultiRNAflow Version: 1.7.0 Command: /Library/Frameworks/R.framework/Resources/bin/R CMD build --keep-empty-dirs --no-resave-data MultiRNAflow StartedAt: 2025-06-29 17:03:57 -0400 (Sun, 29 Jun 2025) EndedAt: 2025-06-29 17:06:04 -0400 (Sun, 29 Jun 2025) EllapsedTime: 127.4 seconds RetCode: 0 Status: OK PackageFile: MultiRNAflow_1.7.0.tar.gz PackageFileSize: 3.143 MiB