Package: MultiMed Version: 2.31.0 Command: /Library/Frameworks/R.framework/Resources/bin/R CMD check --install=check:MultiMed.install-out.txt --library=/Library/Frameworks/R.framework/Resources/library --no-vignettes --timings MultiMed_2.31.0.tar.gz StartedAt: 2025-07-04 20:23:10 -0400 (Fri, 04 Jul 2025) EndedAt: 2025-07-04 20:23:21 -0400 (Fri, 04 Jul 2025) EllapsedTime: 11.2 seconds RetCode: 0 Status: OK CheckDir: MultiMed.Rcheck Warnings: 0