Package: Mulcom Version: 1.59.0 Command: /home/biocbuild/R/R/bin/R CMD INSTALL Mulcom StartedAt: 2025-07-07 20:19:27 -0000 (Mon, 07 Jul 2025) EndedAt: 2025-07-07 20:19:37 -0000 (Mon, 07 Jul 2025) EllapsedTime: 10.2 seconds RetCode: 0 Status: OK