Package: Mulcom Version: 1.59.0 Command: /home/biocbuild/R/R/bin/R CMD check --install=check:Mulcom.install-out.txt --library=/home/biocbuild/R/R/site-library --no-vignettes --timings Mulcom_1.59.0.tar.gz StartedAt: 2025-07-08 08:59:03 -0000 (Tue, 08 Jul 2025) EndedAt: 2025-07-08 09:00:06 -0000 (Tue, 08 Jul 2025) EllapsedTime: 63.0 seconds RetCode: 0 Status: WARNINGS CheckDir: Mulcom.Rcheck Warnings: 1