Package: Mulcom Version: 1.59.0 Command: /home/biocbuild/R/R/bin/R CMD build --keep-empty-dirs --no-resave-data Mulcom StartedAt: 2025-07-08 01:08:47 -0000 (Tue, 08 Jul 2025) EndedAt: 2025-07-08 01:08:48 -0000 (Tue, 08 Jul 2025) EllapsedTime: 1.0 seconds RetCode: 0 Status: OK PackageFile: Mulcom_1.59.0.tar.gz PackageFileSize: 1.095 MiB