Package: Mulcom Version: 1.59.0 Command: chmod a+r Mulcom -R && F:\biocbuild\bbs-3.22-bioc\R\bin\R.exe CMD build --keep-empty-dirs --no-resave-data Mulcom StartedAt: 2025-07-14 20:40:06 -0400 (Mon, 14 Jul 2025) EndedAt: 2025-07-14 20:40:10 -0400 (Mon, 14 Jul 2025) EllapsedTime: 4.0 seconds RetCode: 0 Status: OK PackageFile: Mulcom_1.59.0.tar.gz PackageFileSize: 1.095 MiB