Package: Mulcom Version: 1.59.0 Command: rm -rf Mulcom.buildbin-libdir && mkdir Mulcom.buildbin-libdir && F:\biocbuild\bbs-3.22-bioc\R\bin\R.exe CMD INSTALL --build --library=Mulcom.buildbin-libdir Mulcom_1.59.0.tar.gz StartedAt: 2025-07-15 09:27:28 -0400 (Tue, 15 Jul 2025) EndedAt: 2025-07-15 09:27:48 -0400 (Tue, 15 Jul 2025) EllapsedTime: 19.7 seconds RetCode: 0 Status: OK PackageFile: Mulcom_1.59.0.zip PackageFileSize: 1.502 MiB