Package: Mulcom Version: 1.59.0 Command: /Library/Frameworks/R.framework/Resources/bin/R CMD check --install=check:Mulcom.install-out.txt --library=/Library/Frameworks/R.framework/Resources/library --no-vignettes --timings Mulcom_1.59.0.tar.gz StartedAt: 2025-07-21 22:13:53 -0400 (Mon, 21 Jul 2025) EndedAt: 2025-07-21 22:15:05 -0400 (Mon, 21 Jul 2025) EllapsedTime: 72.2 seconds RetCode: 0 Status: WARNINGS CheckDir: Mulcom.Rcheck Warnings: 1