Package: Mulcom Version: 1.59.0 Command: /Library/Frameworks/R.framework/Resources/bin/R CMD build --keep-empty-dirs --no-resave-data Mulcom StartedAt: 2025-07-07 17:00:41 -0400 (Mon, 07 Jul 2025) EndedAt: 2025-07-07 17:00:42 -0400 (Mon, 07 Jul 2025) EllapsedTime: 1.0 seconds RetCode: 0 Status: OK PackageFile: Mulcom_1.59.0.tar.gz PackageFileSize: 1.095 MiB